BEGIN:VCALENDAR
VERSION:2.0
PRODID:-//www.eastwestcatholicschools.org//NONSGML kigkonsult.se iCalcreato
 r 2.30.10//
CALSCALE:GREGORIAN
METHOD:PUBLISH
UID:5fdc533c-c324-4262-bee3-79720cd1f900
X-WR-CALDESC:
X-WR-RELCALID:6479aeaf7d9437b40ee197c7e135ed85
X-WR-TIMEZONE:America/Chicago
BEGIN:VTIMEZONE
TZID:America/Chicago
BEGIN:STANDARD
TZNAME:CST
DTSTART:20251102T020000
TZOFFSETFROM:-0500
TZOFFSETTO:-0600
RDATE:20261101T020000
END:STANDARD
BEGIN:DAYLIGHT
TZNAME:CDT
DTSTART:20250309T020000
TZOFFSETFROM:-0600
TZOFFSETTO:-0500
RDATE:20260308T020000
RDATE:20270314T020000
END:DAYLIGHT
END:VTIMEZONE
BEGIN:VEVENT
UID:912c801f-3f99-4fa8-8996-1b93fc95f2c0
DTSTAMP:20260420T224213Z
DESCRIPTION:
DTSTART;TZID=America/Chicago:20260216T050000
DTEND;TZID=America/Chicago:20260216T050001
LOCATION:
SUMMARY:No School - President's Day
END:VEVENT
END:VCALENDAR
