BEGIN:VCALENDAR
VERSION:2.0
PRODID:-//www.eastwestcatholicschools.org//NONSGML kigkonsult.se iCalcreato
 r 2.30.10//
CALSCALE:GREGORIAN
METHOD:PUBLISH
UID:00efde9e-376f-428c-a59d-2d185d701f82
X-WR-CALDESC:
X-WR-RELCALID:d036fafb23d341c7fd09f46dacfcde12
X-WR-TIMEZONE:America/Chicago
BEGIN:VTIMEZONE
TZID:America/Chicago
BEGIN:STANDARD
TZNAME:CST
DTSTART:20251102T020000
TZOFFSETFROM:-0500
TZOFFSETTO:-0600
RDATE:20261101T020000
END:STANDARD
BEGIN:DAYLIGHT
TZNAME:CDT
DTSTART:20250309T020000
TZOFFSETFROM:-0600
TZOFFSETTO:-0500
RDATE:20260308T020000
RDATE:20270314T020000
END:DAYLIGHT
END:VTIMEZONE
BEGIN:VEVENT
UID:714ff71a-8a51-4841-96b9-7694813d6749
DTSTAMP:20260420T223959Z
DESCRIPTION:
DTSTART;TZID=America/Chicago:20260223T050000
DTEND;TZID=America/Chicago:20260223T050001
LOCATION:
SUMMARY:NE Nebraska Elementary Honor Choir
END:VEVENT
END:VCALENDAR
