BEGIN:VCALENDAR
VERSION:2.0
PRODID:-//www.eastwestcatholicschools.org//NONSGML kigkonsult.se iCalcreato
 r 2.30.10//
CALSCALE:GREGORIAN
METHOD:PUBLISH
UID:e20ba0df-0288-42e3-a766-e0362f5ee3fa
X-WR-CALDESC:
X-WR-RELCALID:5c9e2c62bdf4ec98486cdabad9c35eb2
X-WR-TIMEZONE:America/Chicago
BEGIN:VTIMEZONE
TZID:America/Chicago
BEGIN:STANDARD
TZNAME:CST
DTSTART:20251102T020000
TZOFFSETFROM:-0500
TZOFFSETTO:-0600
RDATE:20261101T020000
END:STANDARD
BEGIN:DAYLIGHT
TZNAME:CDT
DTSTART:20250309T020000
TZOFFSETFROM:-0600
TZOFFSETTO:-0500
RDATE:20260308T020000
RDATE:20270314T020000
END:DAYLIGHT
END:VTIMEZONE
BEGIN:VEVENT
UID:7d72f2b5-74c7-41da-876c-b6eaa78f957c
DTSTAMP:20260420T210929Z
DESCRIPTION:
DTSTART;TZID=America/Chicago:20260304T050000
DTEND;TZID=America/Chicago:20260304T050001
LOCATION:
SUMMARY:Teacher Inservice - No School
END:VEVENT
END:VCALENDAR
