BEGIN:VCALENDAR
VERSION:2.0
PRODID:-//www.eastwestcatholicschools.org//NONSGML kigkonsult.se iCalcreato
 r 2.30.10//
CALSCALE:GREGORIAN
METHOD:PUBLISH
UID:051237d9-bd39-4909-bcf4-0fc39a2378d6
X-WR-CALDESC:
X-WR-RELCALID:0449f0db0453a2dd4afc2f51666721d8
X-WR-TIMEZONE:America/Chicago
BEGIN:VTIMEZONE
TZID:America/Chicago
BEGIN:STANDARD
TZNAME:CST
DTSTART:20251102T020000
TZOFFSETFROM:-0500
TZOFFSETTO:-0600
RDATE:20261101T020000
END:STANDARD
BEGIN:DAYLIGHT
TZNAME:CDT
DTSTART:20260308T020000
TZOFFSETFROM:-0600
TZOFFSETTO:-0500
RDATE:20270314T020000
END:DAYLIGHT
END:VTIMEZONE
BEGIN:VEVENT
UID:f9573ff3-b1c1-4f0a-b487-9586f0333088
DTSTAMP:20260420T222628Z
DESCRIPTION:
DTSTART;TZID=America/Chicago:20260313T050000
DTEND;TZID=America/Chicago:20260313T050001
LOCATION:
SUMMARY:Spring Break - No School
END:VEVENT
END:VCALENDAR
