BEGIN:VCALENDAR
VERSION:2.0
PRODID:-//www.eastwestcatholicschools.org//NONSGML kigkonsult.se iCalcreato
 r 2.30.10//
CALSCALE:GREGORIAN
METHOD:PUBLISH
UID:824a9d03-2c8f-4285-b07a-59068ebeb143
X-WR-CALDESC:
X-WR-RELCALID:481903dd6dc2a29347a4f856f61e28da
X-WR-TIMEZONE:America/Chicago
BEGIN:VTIMEZONE
TZID:America/Chicago
BEGIN:STANDARD
TZNAME:CST
DTSTART:20251102T020000
TZOFFSETFROM:-0500
TZOFFSETTO:-0600
RDATE:20261101T020000
END:STANDARD
BEGIN:DAYLIGHT
TZNAME:CDT
DTSTART:20260308T020000
TZOFFSETFROM:-0600
TZOFFSETTO:-0500
RDATE:20270314T020000
END:DAYLIGHT
END:VTIMEZONE
BEGIN:VEVENT
UID:3f96eee4-93fe-4d8d-9fa1-3d74528b6efb
DTSTAMP:20260420T193805Z
DESCRIPTION:
DTSTART;TZID=America/Chicago:20260401T050000
DTEND;TZID=America/Chicago:20260401T050001
LOCATION:
SUMMARY:Half Day - 12:15 Dismissal
END:VEVENT
END:VCALENDAR
