BEGIN:VCALENDAR
VERSION:2.0
PRODID:-//www.eastwestcatholicschools.org//NONSGML kigkonsult.se iCalcreato
 r 2.30.10//
CALSCALE:GREGORIAN
METHOD:PUBLISH
UID:fd979cb4-468c-4e4c-aa82-f787d62a9583
X-WR-CALDESC:
X-WR-RELCALID:4a695670f5b2f62ec0752f0211f68d43
X-WR-TIMEZONE:America/Chicago
BEGIN:VTIMEZONE
TZID:America/Chicago
BEGIN:STANDARD
TZNAME:CST
DTSTART:20251102T020000
TZOFFSETFROM:-0500
TZOFFSETTO:-0600
RDATE:20261101T020000
END:STANDARD
BEGIN:DAYLIGHT
TZNAME:CDT
DTSTART:20260308T020000
TZOFFSETFROM:-0600
TZOFFSETTO:-0500
RDATE:20270314T020000
END:DAYLIGHT
END:VTIMEZONE
BEGIN:VEVENT
UID:26ae3d15-1ced-4b20-b612-df4dccad0183
DTSTAMP:20260420T204020Z
DESCRIPTION:
DTSTART;TZID=America/Chicago:20260402T050000
DTEND;TZID=America/Chicago:20260406T050001
LOCATION:
SUMMARY:Easter Break - No School
END:VEVENT
END:VCALENDAR
