BEGIN:VCALENDAR
VERSION:2.0
PRODID:-//www.eastwestcatholicschools.org//NONSGML kigkonsult.se iCalcreato
 r 2.30.10//
CALSCALE:GREGORIAN
METHOD:PUBLISH
UID:c4adbf54-43c8-4c8e-9669-e14b23be6ea6
X-WR-CALDESC:
X-WR-RELCALID:62660fe947be0b9955cf0cc2bbcc5bac
X-WR-TIMEZONE:America/Chicago
BEGIN:VTIMEZONE
TZID:America/Chicago
BEGIN:STANDARD
TZNAME:CST
DTSTART:20251102T020000
TZOFFSETFROM:-0500
TZOFFSETTO:-0600
RDATE:20261101T020000
END:STANDARD
BEGIN:DAYLIGHT
TZNAME:CDT
DTSTART:20260308T020000
TZOFFSETFROM:-0600
TZOFFSETTO:-0500
RDATE:20270314T020000
END:DAYLIGHT
END:VTIMEZONE
BEGIN:VEVENT
UID:12511f79-5327-4d28-b3af-fcf4925212bb
DTSTAMP:20260420T192834Z
DESCRIPTION:
DTSTART;TZID=America/Chicago:20260413T050000
DTEND;TZID=America/Chicago:20260413T050001
LOCATION:
SUMMARY:STAR testing window - Apr. 13- May 8
END:VEVENT
END:VCALENDAR
