BEGIN:VCALENDAR
VERSION:2.0
PRODID:-//www.eastwestcatholicschools.org//NONSGML kigkonsult.se iCalcreato
 r 2.30.10//
CALSCALE:GREGORIAN
METHOD:PUBLISH
UID:67557174-34e7-4eac-87aa-401819ed24ea
X-WR-CALDESC:
X-WR-RELCALID:9dcfd68a089190a66523bccef725ef32
X-WR-TIMEZONE:America/Chicago
BEGIN:VTIMEZONE
TZID:America/Chicago
BEGIN:STANDARD
TZNAME:CST
DTSTART:20251102T020000
TZOFFSETFROM:-0500
TZOFFSETTO:-0600
RDATE:20261101T020000
END:STANDARD
BEGIN:DAYLIGHT
TZNAME:CDT
DTSTART:20260308T020000
TZOFFSETFROM:-0600
TZOFFSETTO:-0500
RDATE:20270314T020000
END:DAYLIGHT
END:VTIMEZONE
BEGIN:VEVENT
UID:56aa8535-9281-4e7b-b942-e9023f963298
DTSTAMP:20260420T173917Z
DESCRIPTION:
DTSTART;TZID=America/Chicago:20260430T190000
DTEND;TZID=America/Chicago:20260430T203000
LOCATION:St. Boniface Parish Hall - Menominee
SUMMARY:Spring Concert / Kindergarten Graduation
END:VEVENT
END:VCALENDAR
