BEGIN:VCALENDAR
VERSION:2.0
PRODID:-//www.eastwestcatholicschools.org//NONSGML kigkonsult.se iCalcreato
 r 2.30.10//
CALSCALE:GREGORIAN
METHOD:PUBLISH
UID:1024b361-dcc3-4971-b238-2580787a0bc0
X-WR-CALDESC:
X-WR-RELCALID:86b27c023498f0eac9e1f6c590de1643
X-WR-TIMEZONE:America/Chicago
BEGIN:VTIMEZONE
TZID:America/Chicago
BEGIN:STANDARD
TZNAME:CST
DTSTART:20251102T020000
TZOFFSETFROM:-0500
TZOFFSETTO:-0600
RDATE:20261101T020000
RDATE:20271107T020000
END:STANDARD
BEGIN:DAYLIGHT
TZNAME:CDT
DTSTART:20260308T020000
TZOFFSETFROM:-0600
TZOFFSETTO:-0500
RDATE:20270314T020000
END:DAYLIGHT
END:VTIMEZONE
BEGIN:VEVENT
UID:c0250038-3d3d-40d0-a3d0-de2f75e4bf40
DTSTAMP:20260420T211031Z
DESCRIPTION:
DTSTART;TZID=America/Chicago:20260519T050000
DTEND;TZID=America/Chicago:20260519T050001
LOCATION:
SUMMARY:Last Day / 12:15 Dismissal
END:VEVENT
END:VCALENDAR
