BEGIN:VCALENDAR
VERSION:2.0
PRODID:-//www.eastwestcatholicschools.org//NONSGML kigkonsult.se iCalcreato
 r 2.30.10//
CALSCALE:GREGORIAN
METHOD:PUBLISH
UID:abb87e51-cbaa-4aa9-953e-01210f16b051
X-WR-CALDESC:
X-WR-RELCALID:d3f8a8863b6429bc41e98e08815563f1
X-WR-TIMEZONE:America/Chicago
BEGIN:VTIMEZONE
TZID:America/Chicago
BEGIN:STANDARD
TZNAME:CST
DTSTART:20251102T020000
TZOFFSETFROM:-0500
TZOFFSETTO:-0600
RDATE:20261101T020000
RDATE:20271107T020000
END:STANDARD
BEGIN:DAYLIGHT
TZNAME:CDT
DTSTART:20260308T020000
TZOFFSETFROM:-0600
TZOFFSETTO:-0500
RDATE:20270314T020000
END:DAYLIGHT
END:VTIMEZONE
BEGIN:VEVENT
UID:84a61007-13e7-4fea-b397-0268b01d5b5d
DTSTAMP:20260420T174525Z
DESCRIPTION:
DTSTART;TZID=America/Chicago:20260520T050000
DTEND;TZID=America/Chicago:20260520T050001
LOCATION:
SUMMARY:Teacher Work Day
END:VEVENT
END:VCALENDAR
